BEGIN:VCALENDAR
VERSION:2.0
PRODID:-//DKS Academy - ECPv6.15.11//NONSGML v1.0//EN
CALSCALE:GREGORIAN
METHOD:PUBLISH
X-WR-CALNAME:DKS Academy
X-ORIGINAL-URL:https://dksacademy.com
X-WR-CALDESC:Events for DKS Academy
REFRESH-INTERVAL;VALUE=DURATION:PT1H
X-Robots-Tag:noindex
X-PUBLISHED-TTL:PT1H
BEGIN:VTIMEZONE
TZID:UTC
BEGIN:STANDARD
TZOFFSETFROM:+0000
TZOFFSETTO:+0000
TZNAME:UTC
DTSTART:20240101T000000
END:STANDARD
END:VTIMEZONE
BEGIN:VEVENT
DTSTART;TZID=UTC:20250220T080000
DTEND;TZID=UTC:20250426T170000
DTSTAMP:20260424T160213
CREATED:20241217T081116Z
LAST-MODIFIED:20250118T044015Z
UID:1205-1740038400-1745686800@dksacademy.com
SUMMARY:Navodaya and Sainik School preparatory classes will commence in June
DESCRIPTION:DKS Academy is a leading educational center specializing in preparatory coaching for competitive school admissions. Our Navodaya and Sainik School programs are designed to equip students with the knowledge and skills to excel in entrance exams. With a team of experienced educators and a result-oriented curriculum\, we ensure personalized attention for every student. We focus on building confidence\, discipline\, and academic excellence to shape well-rounded individuals. Choose DKS Academy to give your child the competitive edge they need for success!
URL:https://dksacademy.com/event/navodaya-and-sainik-school-preparatory-classes-will-commence-in-june/
CATEGORIES:Dks Academy
ATTACH;FMTTYPE=image/jpeg:https://dksacademy.com/wp-content/uploads/2025/01/1000295199-scaled.jpg
END:VEVENT
BEGIN:VEVENT
DTSTART;VALUE=DATE:20250401
DTEND;VALUE=DATE:20260302
DTSTAMP:20260424T160213
CREATED:20241217T103312Z
LAST-MODIFIED:20250115T064258Z
UID:1279-1743465600-1772409599@dksacademy.com
SUMMARY:CBSE and ICSE batches for the academic year 2025–2026 will commence in April
DESCRIPTION:DKS Academy is a premier educational institution dedicated to academic excellence and holistic development. We offer specialized coaching for CBSE and ICSE curricula\, fostering a deep understanding of core subjects. Our expert faculty ensures personalized attention and innovative teaching methodologies. With a focus on academic success and personal growth\, we prepare students to excel in their academic journey. Join DKS Academy and take the first step toward a bright future!
URL:https://dksacademy.com/event/cbse-and-icse-batches-for-the-academic-year-2025-2026-will-commence-in-april/
CATEGORIES:Dks Academy
ATTACH;FMTTYPE=image/jpeg:https://dksacademy.com/wp-content/uploads/2025/01/1735208703467-scaled.jpg
END:VEVENT
END:VCALENDAR